BEGIN:VCALENDAR
VERSION:2.0
PRODID:-//ConcertosDoXacobeo.gal - ECPv5.16.4//NONSGML v1.0//EN
CALSCALE:GREGORIAN
METHOD:PUBLISH
X-ORIGINAL-URL:https://concertosdoxacobeo.gal/2021
X-WR-CALDESC:Events for ConcertosDoXacobeo.gal
REFRESH-INTERVAL;VALUE=DURATION:PT1H
X-Robots-Tag:noindex
X-PUBLISHED-TTL:PT1H
BEGIN:VTIMEZONE
TZID:Europe/Madrid
BEGIN:DAYLIGHT
TZOFFSETFROM:+0100
TZOFFSETTO:+0200
TZNAME:CEST
DTSTART:20220327T010000
END:DAYLIGHT
BEGIN:STANDARD
TZOFFSETFROM:+0200
TZOFFSETTO:+0100
TZNAME:CET
DTSTART:20221030T010000
END:STANDARD
END:VTIMEZONE
BEGIN:VEVENT
DTSTART;TZID=Europe/Madrid:20221105T210000
DTEND;TZID=Europe/Madrid:20221105T223000
DTSTAMP:20260422T125154
CREATED:20221024T203847Z
LAST-MODIFIED:20221024T203847Z
UID:5073-1667682000-1667687400@concertosdoxacobeo.gal
SUMMARY:Roi Casal
DESCRIPTION:[vc_row type=”full_width_background” full_screen_row_position=”middle” column_margin=”default” column_direction=”default” column_direction_tablet=”default” column_direction_phone=”default” scene_position=”center” text_color=”dark” text_align=”left” row_border_radius=”none” row_border_radius_applies=”bg” overflow=”visible” advanced_gradient_angle=”0″ overlay_strength=”0.3″ gradient_direction=”left_to_right” shape_divider_position=”bottom” bg_image_animation=”none” gradient_type=”default” shape_type=””][vc_column column_padding=”no-extra-padding” column_padding_tablet=”inherit” column_padding_phone=”inherit” column_padding_position=”all” column_element_spacing=”default” background_color_opacity=”1″ background_hover_color_opacity=”1″ column_shadow=”none” column_border_radius=”none” column_link_target=”_self” column_position=”default” gradient_direction=”left_to_right” overlay_strength=”0.3″ width=”1/1″ tablet_width_inherit=”default” tablet_text_alignment=”default” phone_text_alignment=”default” animation_type=”default” bg_image_animation=”none” border_type=”simple” column_border_width=”none” column_border_style=”solid”][nectar_global_section id=”5069″][/vc_column][/vc_row]
URL:https://concertosdoxacobeo.gal/2021/evento/roi-casal-5/
LOCATION:Praza dos Campos de San Cibrao\, San Cibrao\, Rúa Torno\, 7\, Lugo\, 27890\, Spain
CATEGORIES:Concertos
ATTACH;FMTTYPE=image/jpeg:https://concertosdoxacobeo.gal/2021/wp-content/uploads/2022/08/roi-casal.jpg
GEO:43.695222090719;-7.4428659103322
X-APPLE-STRUCTURED-LOCATION;VALUE=URI;X-ADDRESS=Praza dos Campos de San Cibrao San Cibrao Rúa Torno 7 Lugo 27890 Spain;X-APPLE-RADIUS=500;X-TITLE=Rúa Torno\, 7:geo:-7.4428659103322,43.695222090719
END:VEVENT
BEGIN:VEVENT
DTSTART;TZID=Europe/Madrid:20220811T230000
DTEND;TZID=Europe/Madrid:20220811T235900
DTSTAMP:20260422T125154
CREATED:20220803T164957Z
LAST-MODIFIED:20220817T205147Z
UID:764-1660258800-1660262340@concertosdoxacobeo.gal
SUMMARY:Roi Casal
DESCRIPTION:[vc_row type=”full_width_background” full_screen_row_position=”middle” column_margin=”default” column_direction=”default” column_direction_tablet=”default” column_direction_phone=”default” scene_position=”center” text_color=”dark” text_align=”left” row_border_radius=”none” row_border_radius_applies=”bg” overflow=”visible” advanced_gradient_angle=”0″ overlay_strength=”0.3″ gradient_direction=”left_to_right” shape_divider_position=”bottom” bg_image_animation=”none” gradient_type=”default” shape_type=””][vc_column column_padding=”no-extra-padding” column_padding_tablet=”inherit” column_padding_phone=”inherit” column_padding_position=”all” column_element_spacing=”default” background_color_opacity=”1″ background_hover_color_opacity=”1″ column_shadow=”none” column_border_radius=”none” column_link_target=”_self” column_position=”default” gradient_direction=”left_to_right” overlay_strength=”0.3″ width=”1/1″ tablet_width_inherit=”default” tablet_text_alignment=”default” phone_text_alignment=”default” animation_type=”default” bg_image_animation=”none” border_type=”simple” column_border_width=”none” column_border_style=”solid”][nectar_global_section id=”1502″][/vc_column][/vc_row]
URL:https://concertosdoxacobeo.gal/2021/evento/roi-casal-3/
LOCATION:Auditorio Municipal\, Carballiño\, Avenida do Balneario\, 28\, Ourense\, 32500\, Spain
CATEGORIES:Concertos
ATTACH;FMTTYPE=image/jpeg:https://concertosdoxacobeo.gal/2021/wp-content/uploads/2022/08/roi-casal.jpg
GEO:42.433437937089;-8.0805352067458
X-APPLE-STRUCTURED-LOCATION;VALUE=URI;X-ADDRESS=Auditorio Municipal Carballiño Avenida do Balneario 28 Ourense 32500 Spain;X-APPLE-RADIUS=500;X-TITLE=Avenida do Balneario\, 28:geo:-8.0805352067458,42.433437937089
END:VEVENT
BEGIN:VEVENT
DTSTART;TZID=Europe/Madrid:20220730T223000
DTEND;TZID=Europe/Madrid:20220730T235900
DTSTAMP:20260422T125154
CREATED:20220803T164957Z
LAST-MODIFIED:20220817T204008Z
UID:1485-1659220200-1659225540@concertosdoxacobeo.gal
SUMMARY:Roi Casal
DESCRIPTION:[vc_row type=”full_width_background” full_screen_row_position=”middle” column_margin=”default” column_direction=”default” column_direction_tablet=”default” column_direction_phone=”default” scene_position=”center” text_color=”dark” text_align=”left” row_border_radius=”none” row_border_radius_applies=”bg” overflow=”visible” advanced_gradient_angle=”0″ overlay_strength=”0.3″ gradient_direction=”left_to_right” shape_divider_position=”bottom” bg_image_animation=”none” gradient_type=”default” shape_type=””][vc_column column_padding=”no-extra-padding” column_padding_tablet=”inherit” column_padding_phone=”inherit” column_padding_position=”all” column_element_spacing=”default” background_color_opacity=”1″ background_hover_color_opacity=”1″ column_shadow=”none” column_border_radius=”none” column_link_target=”_self” column_position=”default” gradient_direction=”left_to_right” overlay_strength=”0.3″ width=”1/1″ tablet_width_inherit=”default” tablet_text_alignment=”default” phone_text_alignment=”default” animation_type=”default” bg_image_animation=”none” border_type=”simple” column_border_width=”none” column_border_style=”solid”][nectar_global_section id=”1483″][/vc_column][/vc_row]
URL:https://concertosdoxacobeo.gal/2021/evento/roi-casal-4/
LOCATION:Plaza de Ojea\, Cangas\, Praza de Ojea\, Pontevedra\, 36940\, Spain
CATEGORIES:Concertos
ATTACH;FMTTYPE=image/jpeg:https://concertosdoxacobeo.gal/2021/wp-content/uploads/2022/08/roi-casal.jpg
GEO:42.263411915779;-8.7806112916218
X-APPLE-STRUCTURED-LOCATION;VALUE=URI;X-ADDRESS=Plaza de Ojea Cangas Praza de Ojea Pontevedra 36940 Spain;X-APPLE-RADIUS=500;X-TITLE=Praza de Ojea:geo:-8.7806112916218,42.263411915779
END:VEVENT
BEGIN:VEVENT
DTSTART;TZID=Europe/Madrid:20220725T223000
DTEND;TZID=Europe/Madrid:20220725T235900
DTSTAMP:20260422T125154
CREATED:20220803T164957Z
LAST-MODIFIED:20220817T203426Z
UID:701-1658788200-1658793540@concertosdoxacobeo.gal
SUMMARY:Roi Casal
DESCRIPTION:[vc_row type=”full_width_background” full_screen_row_position=”middle” column_margin=”default” column_direction=”default” column_direction_tablet=”default” column_direction_phone=”default” scene_position=”center” text_color=”dark” text_align=”left” row_border_radius=”none” row_border_radius_applies=”bg” overflow=”visible” advanced_gradient_angle=”0″ overlay_strength=”0.3″ gradient_direction=”left_to_right” shape_divider_position=”bottom” bg_image_animation=”none” gradient_type=”default” shape_type=””][vc_column column_padding=”no-extra-padding” column_padding_tablet=”inherit” column_padding_phone=”inherit” column_padding_position=”all” column_element_spacing=”default” background_color_opacity=”1″ background_hover_color_opacity=”1″ column_shadow=”none” column_border_radius=”none” column_link_target=”_self” column_position=”default” gradient_direction=”left_to_right” overlay_strength=”0.3″ width=”1/1″ tablet_width_inherit=”default” tablet_text_alignment=”default” phone_text_alignment=”default” animation_type=”default” bg_image_animation=”none” border_type=”simple” column_border_width=”none” column_border_style=”solid”][nectar_global_section id=”1476″][/vc_column][/vc_row]
URL:https://concertosdoxacobeo.gal/2021/evento/roi-casal-2/
LOCATION:Fondo de Vila\, Padrón\, Rúa Fondo de Vila\, A Coruña\, 15900\, Spain
CATEGORIES:Concertos
ATTACH;FMTTYPE=image/jpeg:https://concertosdoxacobeo.gal/2021/wp-content/uploads/2022/08/roi-casal.jpg
GEO:42.736840294563;-8.6606684161338
X-APPLE-STRUCTURED-LOCATION;VALUE=URI;X-ADDRESS=Fondo de Vila Padrón Rúa Fondo de Vila A Coruña 15900 Spain;X-APPLE-RADIUS=500;X-TITLE=Rúa Fondo de Vila:geo:-8.6606684161338,42.736840294563
END:VEVENT
BEGIN:VEVENT
DTSTART;TZID=Europe/Madrid:20220716T223000
DTEND;TZID=Europe/Madrid:20220716T235900
DTSTAMP:20260422T125154
CREATED:20220803T164957Z
LAST-MODIFIED:20220817T203031Z
UID:676-1658010600-1658015940@concertosdoxacobeo.gal
SUMMARY:Roi Casal
DESCRIPTION:[vc_row type=”full_width_background” full_screen_row_position=”middle” column_margin=”default” column_direction=”default” column_direction_tablet=”default” column_direction_phone=”default” scene_position=”center” text_color=”dark” text_align=”left” row_border_radius=”none” row_border_radius_applies=”bg” overflow=”visible” advanced_gradient_angle=”0″ overlay_strength=”0.3″ gradient_direction=”left_to_right” shape_divider_position=”bottom” bg_image_animation=”none” gradient_type=”default” shape_type=””][vc_column column_padding=”no-extra-padding” column_padding_tablet=”inherit” column_padding_phone=”inherit” column_padding_position=”all” column_element_spacing=”default” background_color_opacity=”1″ background_hover_color_opacity=”1″ column_shadow=”none” column_border_radius=”none” column_link_target=”_self” column_position=”default” gradient_direction=”left_to_right” overlay_strength=”0.3″ width=”1/1″ tablet_width_inherit=”default” tablet_text_alignment=”default” phone_text_alignment=”default” animation_type=”default” bg_image_animation=”none” border_type=”simple” column_border_width=”none” column_border_style=”solid”][nectar_global_section id=”679″][/vc_column][/vc_row]
URL:https://concertosdoxacobeo.gal/2021/evento/roi-casal/
LOCATION:Praza da Vila\, Sarria\, Praza da Vila\, Lugo\, 27600\, Spain
CATEGORIES:Concertos
ATTACH;FMTTYPE=image/jpeg:https://concertosdoxacobeo.gal/2021/wp-content/uploads/2022/08/roi-casal.jpg
GEO:42.77906289893;-7.4138818932542
X-APPLE-STRUCTURED-LOCATION;VALUE=URI;X-ADDRESS=Praza da Vila Sarria Praza da Vila Lugo 27600 Spain;X-APPLE-RADIUS=500;X-TITLE=Praza da Vila:geo:-7.4138818932542,42.77906289893
END:VEVENT
END:VCALENDAR