BEGIN:VCALENDAR
VERSION:2.0
PRODID:-//ConcertosDoXacobeo.gal - ECPv5.16.4//NONSGML v1.0//EN
CALSCALE:GREGORIAN
METHOD:PUBLISH
X-ORIGINAL-URL:https://concertosdoxacobeo.gal/2021
X-WR-CALDESC:Events for ConcertosDoXacobeo.gal
REFRESH-INTERVAL;VALUE=DURATION:PT1H
X-Robots-Tag:noindex
X-PUBLISHED-TTL:PT1H
BEGIN:VTIMEZONE
TZID:Europe/Madrid
BEGIN:DAYLIGHT
TZOFFSETFROM:+0100
TZOFFSETTO:+0200
TZNAME:CEST
DTSTART:20220327T010000
END:DAYLIGHT
BEGIN:STANDARD
TZOFFSETFROM:+0200
TZOFFSETTO:+0100
TZNAME:CET
DTSTART:20221030T010000
END:STANDARD
END:VTIMEZONE
BEGIN:VEVENT
DTSTART;TZID=Europe/Madrid:20221105T210000
DTEND;TZID=Europe/Madrid:20221105T223000
DTSTAMP:20260425T171806
CREATED:20221024T203847Z
LAST-MODIFIED:20221024T203847Z
UID:5073-1667682000-1667687400@concertosdoxacobeo.gal
SUMMARY:Roi Casal
DESCRIPTION:[vc_row type=”full_width_background” full_screen_row_position=”middle” column_margin=”default” column_direction=”default” column_direction_tablet=”default” column_direction_phone=”default” scene_position=”center” text_color=”dark” text_align=”left” row_border_radius=”none” row_border_radius_applies=”bg” overflow=”visible” advanced_gradient_angle=”0″ overlay_strength=”0.3″ gradient_direction=”left_to_right” shape_divider_position=”bottom” bg_image_animation=”none” gradient_type=”default” shape_type=””][vc_column column_padding=”no-extra-padding” column_padding_tablet=”inherit” column_padding_phone=”inherit” column_padding_position=”all” column_element_spacing=”default” background_color_opacity=”1″ background_hover_color_opacity=”1″ column_shadow=”none” column_border_radius=”none” column_link_target=”_self” column_position=”default” gradient_direction=”left_to_right” overlay_strength=”0.3″ width=”1/1″ tablet_width_inherit=”default” tablet_text_alignment=”default” phone_text_alignment=”default” animation_type=”default” bg_image_animation=”none” border_type=”simple” column_border_width=”none” column_border_style=”solid”][nectar_global_section id=”5069″][/vc_column][/vc_row]
URL:https://concertosdoxacobeo.gal/2021/evento/roi-casal-5/
LOCATION:Praza dos Campos de San Cibrao\, San Cibrao\, Rúa Torno\, 7\, Lugo\, 27890\, Spain
CATEGORIES:Concertos
ATTACH;FMTTYPE=image/jpeg:https://concertosdoxacobeo.gal/2021/wp-content/uploads/2022/08/roi-casal.jpg
GEO:43.695222090719;-7.4428659103322
X-APPLE-STRUCTURED-LOCATION;VALUE=URI;X-ADDRESS=Praza dos Campos de San Cibrao San Cibrao Rúa Torno 7 Lugo 27890 Spain;X-APPLE-RADIUS=500;X-TITLE=Rúa Torno\, 7:geo:-7.4428659103322,43.695222090719
END:VEVENT
BEGIN:VEVENT
DTSTART;TZID=Europe/Madrid:20221112T203000
DTEND;TZID=Europe/Madrid:20221112T220000
DTSTAMP:20260425T171806
CREATED:20221026T161945Z
LAST-MODIFIED:20221026T161945Z
UID:5105-1668285000-1668290400@concertosdoxacobeo.gal
SUMMARY:Coque Malla
DESCRIPTION:[vc_row type=”full_width_background” full_screen_row_position=”middle” column_margin=”default” column_direction=”default” column_direction_tablet=”default” column_direction_phone=”default” scene_position=”center” text_color=”dark” text_align=”left” row_border_radius=”none” row_border_radius_applies=”bg” overflow=”visible” advanced_gradient_angle=”0″ overlay_strength=”0.3″ gradient_direction=”left_to_right” shape_divider_position=”bottom” bg_image_animation=”none” gradient_type=”default” shape_type=””][vc_column column_padding=”no-extra-padding” column_padding_tablet=”inherit” column_padding_phone=”inherit” column_padding_position=”all” column_element_spacing=”default” background_color_opacity=”1″ background_hover_color_opacity=”1″ column_shadow=”none” column_border_radius=”none” column_link_target=”_self” column_position=”default” gradient_direction=”left_to_right” overlay_strength=”0.3″ width=”1/1″ tablet_width_inherit=”default” tablet_text_alignment=”default” phone_text_alignment=”default” animation_type=”default” bg_image_animation=”none” border_type=”simple” column_border_width=”none” column_border_style=”solid”][nectar_global_section id=”5101″][/vc_column][/vc_row]
URL:https://concertosdoxacobeo.gal/2021/evento/coque-malla-3/
LOCATION:Palacio de la Ópera\, A Coruña\, Gta. de América\, A Coruña\, 15004\, Spain
CATEGORIES:Concertos
ATTACH;FMTTYPE=image/jpeg:https://concertosdoxacobeo.gal/2021/wp-content/uploads/2022/08/coque-malla.jpg
GEO:43.363173184217;-8.4111835426329
X-APPLE-STRUCTURED-LOCATION;VALUE=URI;X-ADDRESS=Palacio de la Ópera A Coruña Gta. de América A Coruña 15004 Spain;X-APPLE-RADIUS=500;X-TITLE=Gta. de América:geo:-8.4111835426329,43.363173184217
END:VEVENT
BEGIN:VEVENT
DTSTART;TZID=Europe/Madrid:20221125T210000
DTEND;TZID=Europe/Madrid:20221125T230000
DTSTAMP:20260425T171806
CREATED:20220911T132406Z
LAST-MODIFIED:20220918T140059Z
UID:4811-1669410000-1669417200@concertosdoxacobeo.gal
SUMMARY:Fredi Leis
DESCRIPTION:[vc_row type=”full_width_background” full_screen_row_position=”middle” column_margin=”default” column_direction=”default” column_direction_tablet=”default” column_direction_phone=”default” scene_position=”center” text_color=”dark” text_align=”left” row_border_radius=”none” row_border_radius_applies=”bg” overflow=”visible” advanced_gradient_angle=”0″ overlay_strength=”0.3″ gradient_direction=”left_to_right” shape_divider_position=”bottom” bg_image_animation=”none” gradient_type=”default” shape_type=””][vc_column column_padding=”no-extra-padding” column_padding_tablet=”inherit” column_padding_phone=”inherit” column_padding_position=”all” column_element_spacing=”default” background_color_opacity=”1″ background_hover_color_opacity=”1″ column_shadow=”none” column_border_radius=”none” column_link_target=”_self” column_position=”default” gradient_direction=”left_to_right” overlay_strength=”0.3″ width=”1/1″ tablet_width_inherit=”default” tablet_text_alignment=”default” phone_text_alignment=”default” animation_type=”default” bg_image_animation=”none” border_type=”simple” column_border_width=”none” column_border_style=”solid”][nectar_global_section id=”4758″][/vc_column][/vc_row]
URL:https://concertosdoxacobeo.gal/2021/evento/fredi-leis/
LOCATION:Teatro Afundación\, Vigo\, Rúa Policarpo Sanz\, 13\, Pontevedra\, 36202\, Spain
CATEGORIES:Concertos
ATTACH;FMTTYPE=image/jpeg:https://concertosdoxacobeo.gal/2021/wp-content/uploads/2022/09/fredi-leis.jpg
GEO:42.237914347206;-8.723426744095
X-APPLE-STRUCTURED-LOCATION;VALUE=URI;X-ADDRESS=Teatro Afundación Vigo Rúa Policarpo Sanz 13 Pontevedra 36202 Spain;X-APPLE-RADIUS=500;X-TITLE=Rúa Policarpo Sanz\, 13:geo:-8.723426744095,42.237914347206
END:VEVENT
BEGIN:VEVENT
DTSTART;TZID=Europe/Madrid:20221126T203000
DTEND;TZID=Europe/Madrid:20221126T220000
DTSTAMP:20260425T171806
CREATED:20221026T160831Z
LAST-MODIFIED:20221026T160831Z
UID:5095-1669494600-1669500000@concertosdoxacobeo.gal
SUMMARY:Sara Baras
DESCRIPTION:[vc_row type=”full_width_background” full_screen_row_position=”middle” column_margin=”default” column_direction=”default” column_direction_tablet=”default” column_direction_phone=”default” scene_position=”center” text_color=”dark” text_align=”left” row_border_radius=”none” row_border_radius_applies=”bg” overflow=”visible” advanced_gradient_angle=”0″ overlay_strength=”0.3″ gradient_direction=”left_to_right” shape_divider_position=”bottom” bg_image_animation=”none” gradient_type=”default” shape_type=””][vc_column column_padding=”no-extra-padding” column_padding_tablet=”inherit” column_padding_phone=”inherit” column_padding_position=”all” column_element_spacing=”default” background_color_opacity=”1″ background_hover_color_opacity=”1″ column_shadow=”none” column_border_radius=”none” column_link_target=”_self” column_position=”default” gradient_direction=”left_to_right” overlay_strength=”0.3″ width=”1/1″ tablet_width_inherit=”default” tablet_text_alignment=”default” phone_text_alignment=”default” animation_type=”default” bg_image_animation=”none” border_type=”simple” column_border_width=”none” column_border_style=”solid”][nectar_global_section id=”5089″][/vc_column][/vc_row]
URL:https://concertosdoxacobeo.gal/2021/evento/sara-baras/
LOCATION:Palacio de la Ópera\, A Coruña\, Gta. de América\, A Coruña\, 15004\, Spain
CATEGORIES:Concertos
ATTACH;FMTTYPE=image/jpeg:https://concertosdoxacobeo.gal/2021/wp-content/uploads/2022/10/sara-baras.jpg
GEO:43.363173184217;-8.4111835426329
X-APPLE-STRUCTURED-LOCATION;VALUE=URI;X-ADDRESS=Palacio de la Ópera A Coruña Gta. de América A Coruña 15004 Spain;X-APPLE-RADIUS=500;X-TITLE=Gta. de América:geo:-8.4111835426329,43.363173184217
END:VEVENT
END:VCALENDAR