BEGIN:VCALENDAR
VERSION:2.0
PRODID:-//ConcertosDoXacobeo.gal - ECPv5.16.4//NONSGML v1.0//EN
CALSCALE:GREGORIAN
METHOD:PUBLISH
X-WR-CALNAME:ConcertosDoXacobeo.gal
X-ORIGINAL-URL:https://concertosdoxacobeo.gal/2021
X-WR-CALDESC:Events for ConcertosDoXacobeo.gal
REFRESH-INTERVAL;VALUE=DURATION:PT1H
X-Robots-Tag:noindex
X-PUBLISHED-TTL:PT1H
BEGIN:VTIMEZONE
TZID:Europe/Madrid
BEGIN:DAYLIGHT
TZOFFSETFROM:+0100
TZOFFSETTO:+0200
TZNAME:CEST
DTSTART:20220327T010000
END:DAYLIGHT
BEGIN:STANDARD
TZOFFSETFROM:+0200
TZOFFSETTO:+0100
TZNAME:CET
DTSTART:20221030T010000
END:STANDARD
END:VTIMEZONE
BEGIN:VEVENT
DTSTART;VALUE=DATE:20220529
DTEND;VALUE=DATE:20220531
DTSTAMP:20260425T185646
CREATED:20220803T164957Z
LAST-MODIFIED:20220817T201205Z
UID:1113-1653793200-1653879599@concertosdoxacobeo.gal
SUMMARY:Ouren Sound Fest
DESCRIPTION:[vc_row type=”full_width_background” full_screen_row_position=”middle” column_margin=”default” column_direction=”default” column_direction_tablet=”default” column_direction_phone=”default” scene_position=”center” text_color=”dark” text_align=”left” row_border_radius=”none” row_border_radius_applies=”bg” overflow=”visible” advanced_gradient_angle=”0″ overlay_strength=”0.3″ gradient_direction=”left_to_right” shape_divider_position=”bottom” bg_image_animation=”none” gradient_type=”default” shape_type=””][vc_column column_padding=”no-extra-padding” column_padding_tablet=”inherit” column_padding_phone=”inherit” column_padding_position=”all” column_element_spacing=”default” background_color_opacity=”1″ background_hover_color_opacity=”1″ column_shadow=”none” column_border_radius=”none” column_link_target=”_self” column_position=”default” gradient_direction=”left_to_right” overlay_strength=”0.3″ width=”1/1″ tablet_width_inherit=”default” tablet_text_alignment=”default” phone_text_alignment=”default” animation_type=”default” bg_image_animation=”none” border_type=”simple” column_border_width=”none” column_border_style=”solid”][nectar_global_section id=”1091″][/vc_column][/vc_row]
URL:https://concertosdoxacobeo.gal/2021/evento/ouren-sound-fest/2022-05-29/
LOCATION:Barrio Bemposta\, Ourense\, Barrio Bemposta\, 1\, Ourense\, 32970\, Spain
CATEGORIES:Festivais
ATTACH;FMTTYPE=image/jpeg:https://concertosdoxacobeo.gal/2021/wp-content/uploads/2022/08/logo-ouren-sound.jpg
GEO:42.302003042758;-7.847477979419
X-APPLE-STRUCTURED-LOCATION;VALUE=URI;X-ADDRESS=Barrio Bemposta Ourense Barrio Bemposta 1 Ourense 32970 Spain;X-APPLE-RADIUS=500;X-TITLE=Barrio Bemposta\, 1:geo:-7.847477979419,42.302003042758
END:VEVENT
BEGIN:VEVENT
DTSTART;TZID=Europe/Madrid:20220528T210000
DTEND;TZID=Europe/Madrid:20220528T230000
DTSTAMP:20260425T185646
CREATED:20220803T164957Z
LAST-MODIFIED:20220817T214710Z
UID:2062-1653771600-1653778800@concertosdoxacobeo.gal
SUMMARY:The James Hunter Six
DESCRIPTION:[vc_row type=”full_width_background” full_screen_row_position=”middle” column_margin=”default” column_direction=”default” column_direction_tablet=”default” column_direction_phone=”default” scene_position=”center” text_color=”dark” text_align=”left” row_border_radius=”none” row_border_radius_applies=”bg” overflow=”visible” advanced_gradient_angle=”0″ overlay_strength=”0.3″ gradient_direction=”left_to_right” shape_divider_position=”bottom” bg_image_animation=”none” gradient_type=”default” shape_type=””][vc_column column_padding=”no-extra-padding” column_padding_tablet=”inherit” column_padding_phone=”inherit” column_padding_position=”all” column_element_spacing=”default” background_color_opacity=”1″ background_hover_color_opacity=”1″ column_shadow=”none” column_border_radius=”none” column_link_target=”_self” column_position=”default” gradient_direction=”left_to_right” overlay_strength=”0.3″ width=”1/1″ tablet_width_inherit=”default” tablet_text_alignment=”default” phone_text_alignment=”default” animation_type=”default” bg_image_animation=”none” border_type=”simple” column_border_width=”none” column_border_style=”solid”][nectar_global_section id=”2063″][nectar_global_section id=”2019″][/vc_column][/vc_row]
URL:https://concertosdoxacobeo.gal/2021/evento/the-james-hunter-six/
LOCATION:Teatro Principal\, Ourense\, Rúa da Paz\, 9\, Ourense\, 32005\, Spain
CATEGORIES:Ciclos
ATTACH;FMTTYPE=image/jpeg:https://concertosdoxacobeo.gal/2021/wp-content/uploads/2022/08/the-james-hunter-six.jpg
GEO:42.337083512605;-7.8637261382823
X-APPLE-STRUCTURED-LOCATION;VALUE=URI;X-ADDRESS=Teatro Principal Ourense Rúa da Paz 9 Ourense 32005 Spain;X-APPLE-RADIUS=500;X-TITLE=Rúa da Paz\, 9:geo:-7.8637261382823,42.337083512605
END:VEVENT
BEGIN:VEVENT
DTSTART;TZID=Europe/Madrid:20220515T200000
DTEND;TZID=Europe/Madrid:20220515T220000
DTSTAMP:20260425T185646
CREATED:20220803T164957Z
LAST-MODIFIED:20220817T214634Z
UID:2058-1652644800-1652652000@concertosdoxacobeo.gal
SUMMARY:White Lies + Charming Liars
DESCRIPTION:[vc_row type=”full_width_background” full_screen_row_position=”middle” column_margin=”default” column_direction=”default” column_direction_tablet=”default” column_direction_phone=”default” scene_position=”center” text_color=”dark” text_align=”left” row_border_radius=”none” row_border_radius_applies=”bg” overflow=”visible” advanced_gradient_angle=”0″ overlay_strength=”0.3″ gradient_direction=”left_to_right” shape_divider_position=”bottom” bg_image_animation=”none” gradient_type=”default” shape_type=””][vc_column column_padding=”no-extra-padding” column_padding_tablet=”inherit” column_padding_phone=”inherit” column_padding_position=”all” column_element_spacing=”default” background_color_opacity=”1″ background_hover_color_opacity=”1″ column_shadow=”none” column_border_radius=”none” column_link_target=”_self” column_position=”default” gradient_direction=”left_to_right” overlay_strength=”0.3″ width=”1/1″ tablet_width_inherit=”default” tablet_text_alignment=”default” phone_text_alignment=”default” animation_type=”default” bg_image_animation=”none” border_type=”simple” column_border_width=”none” column_border_style=”solid”][nectar_global_section id=”2056″][nectar_global_section id=”2019″][/vc_column][/vc_row]
URL:https://concertosdoxacobeo.gal/2021/evento/white-lies-charming-liars/
LOCATION:Sala Capitol\, Santiago de Compostela\, Rúa de Concepción Arenal\, 5\, A Coruña\, 15702\, Spain
CATEGORIES:Ciclos
ATTACH;FMTTYPE=image/jpeg:https://concertosdoxacobeo.gal/2021/wp-content/uploads/2022/08/white-lies.jpg
GEO:42.8767524295;-8.5434049880016
X-APPLE-STRUCTURED-LOCATION;VALUE=URI;X-ADDRESS=Sala Capitol Santiago de Compostela Rúa de Concepción Arenal 5 A Coruña 15702 Spain;X-APPLE-RADIUS=500;X-TITLE=Rúa de Concepción Arenal\, 5:geo:-8.5434049880016,42.8767524295
END:VEVENT
BEGIN:VEVENT
DTSTART;TZID=Europe/Madrid:20220515T193000
DTEND;TZID=Europe/Madrid:20220516T010000
DTSTAMP:20260425T185646
CREATED:20220803T164957Z
LAST-MODIFIED:20220817T201107Z
UID:857-1652643000-1652662800@concertosdoxacobeo.gal
SUMMARY:Cocidos do Camiño
DESCRIPTION:[vc_row type=”full_width_background” full_screen_row_position=”middle” column_margin=”default” column_direction=”default” column_direction_tablet=”default” column_direction_phone=”default” scene_position=”center” text_color=”dark” text_align=”left” row_border_radius=”none” row_border_radius_applies=”bg” overflow=”visible” advanced_gradient_angle=”0″ overlay_strength=”0.3″ gradient_direction=”left_to_right” shape_divider_position=”bottom” bg_image_animation=”none” gradient_type=”default” shape_type=””][vc_column column_padding=”no-extra-padding” column_padding_tablet=”inherit” column_padding_phone=”inherit” column_padding_position=”all” column_element_spacing=”default” background_color_opacity=”1″ background_hover_color_opacity=”1″ column_shadow=”none” column_border_radius=”none” column_link_target=”_self” column_position=”default” gradient_direction=”left_to_right” overlay_strength=”0.3″ width=”1/1″ tablet_width_inherit=”default” tablet_text_alignment=”default” phone_text_alignment=”default” animation_type=”default” bg_image_animation=”none” border_type=”simple” column_border_width=”none” column_border_style=”solid”][nectar_global_section id=”813″][/vc_column][/vc_row]
URL:https://concertosdoxacobeo.gal/2021/evento/cocidos-do-camino/2022-05-15/
LOCATION:Carpa Campo da Feira\, Lalín\, Rúa Rosalía de Castro\, s/n\, Pontevedra\, 36519\, Spain
CATEGORIES:Festivais
ATTACH;FMTTYPE=image/jpeg:https://concertosdoxacobeo.gal/2021/wp-content/uploads/2022/08/logo-cocido-no-camino.jpg
GEO:42.65941326512;-8.1140774179987
X-APPLE-STRUCTURED-LOCATION;VALUE=URI;X-ADDRESS=Carpa Campo da Feira Lalín Rúa Rosalía de Castro s/n Pontevedra 36519 Spain;X-APPLE-RADIUS=500;X-TITLE=Rúa Rosalía de Castro\, s/n:geo:-8.1140774179987,42.65941326512
END:VEVENT
BEGIN:VEVENT
DTSTART;TZID=Europe/Madrid:20220423T210000
DTEND;TZID=Europe/Madrid:20220423T230000
DTSTAMP:20260425T185646
CREATED:20220803T164957Z
LAST-MODIFIED:20220817T214600Z
UID:2051-1650747600-1650754800@concertosdoxacobeo.gal
SUMMARY:Eagles of Death Metal
DESCRIPTION:[vc_row type=”full_width_background” full_screen_row_position=”middle” column_margin=”default” column_direction=”default” column_direction_tablet=”default” column_direction_phone=”default” scene_position=”center” text_color=”dark” text_align=”left” row_border_radius=”none” row_border_radius_applies=”bg” overflow=”visible” advanced_gradient_angle=”0″ overlay_strength=”0.3″ gradient_direction=”left_to_right” shape_divider_position=”bottom” bg_image_animation=”none” gradient_type=”default” shape_type=””][vc_column column_padding=”no-extra-padding” column_padding_tablet=”inherit” column_padding_phone=”inherit” column_padding_position=”all” column_element_spacing=”default” background_color_opacity=”1″ background_hover_color_opacity=”1″ column_shadow=”none” column_border_radius=”none” column_link_target=”_self” column_position=”default” gradient_direction=”left_to_right” overlay_strength=”0.3″ width=”1/1″ tablet_width_inherit=”default” tablet_text_alignment=”default” phone_text_alignment=”default” animation_type=”default” bg_image_animation=”none” border_type=”simple” column_border_width=”none” column_border_style=”solid”][nectar_global_section id=”2047″][nectar_global_section id=”2019″][/vc_column][/vc_row]
URL:https://concertosdoxacobeo.gal/2021/evento/eagles-of-death-metal/
LOCATION:Sala Capitol\, Santiago de Compostela\, Rúa de Concepción Arenal\, 5\, A Coruña\, 15702\, Spain
CATEGORIES:Ciclos
ATTACH;FMTTYPE=image/jpeg:https://concertosdoxacobeo.gal/2021/wp-content/uploads/2022/08/eagles-of-death-metal.jpg
GEO:42.8767524295;-8.5434049880016
X-APPLE-STRUCTURED-LOCATION;VALUE=URI;X-ADDRESS=Sala Capitol Santiago de Compostela Rúa de Concepción Arenal 5 A Coruña 15702 Spain;X-APPLE-RADIUS=500;X-TITLE=Rúa de Concepción Arenal\, 5:geo:-8.5434049880016,42.8767524295
END:VEVENT
END:VCALENDAR