BEGIN:VCALENDAR
VERSION:2.0
PRODID:-//ConcertosDoXacobeo.gal - ECPv5.16.4//NONSGML v1.0//EN
CALSCALE:GREGORIAN
METHOD:PUBLISH
X-WR-CALNAME:ConcertosDoXacobeo.gal
X-ORIGINAL-URL:https://concertosdoxacobeo.gal/2021
X-WR-CALDESC:Events for ConcertosDoXacobeo.gal
REFRESH-INTERVAL;VALUE=DURATION:PT1H
X-Robots-Tag:noindex
X-PUBLISHED-TTL:PT1H
BEGIN:VTIMEZONE
TZID:Europe/Madrid
BEGIN:DAYLIGHT
TZOFFSETFROM:+0100
TZOFFSETTO:+0200
TZNAME:CEST
DTSTART:20220327T010000
END:DAYLIGHT
BEGIN:STANDARD
TZOFFSETFROM:+0200
TZOFFSETTO:+0100
TZNAME:CET
DTSTART:20221030T010000
END:STANDARD
END:VTIMEZONE
BEGIN:VEVENT
DTSTART;TZID=Europe/Madrid:20220730T160000
DTEND;TZID=Europe/Madrid:20220731T003000
DTSTAMP:20260425T133720
CREATED:20220803T164957Z
LAST-MODIFIED:20220817T204047Z
UID:1241-1659196800-1659227400@concertosdoxacobeo.gal
SUMMARY:Neox Music Day
DESCRIPTION:[vc_row type=”full_width_background” full_screen_row_position=”middle” column_margin=”default” column_direction=”default” column_direction_tablet=”default” column_direction_phone=”default” scene_position=”center” text_color=”dark” text_align=”left” row_border_radius=”none” row_border_radius_applies=”bg” overflow=”visible” advanced_gradient_angle=”0″ overlay_strength=”0.3″ gradient_direction=”left_to_right” shape_divider_position=”bottom” bg_image_animation=”none” gradient_type=”default” shape_type=””][vc_column column_padding=”no-extra-padding” column_padding_tablet=”inherit” column_padding_phone=”inherit” column_padding_position=”all” column_element_spacing=”default” background_color_opacity=”1″ background_hover_color_opacity=”1″ column_shadow=”none” column_border_radius=”none” column_link_target=”_self” column_position=”default” gradient_direction=”left_to_right” overlay_strength=”0.3″ width=”1/1″ tablet_width_inherit=”default” tablet_text_alignment=”default” phone_text_alignment=”default” animation_type=”default” bg_image_animation=”none” border_type=”simple” column_border_width=”none” column_border_style=”solid”][nectar_global_section id=”1235″][/vc_column][/vc_row]
URL:https://concertosdoxacobeo.gal/2021/evento/neox-music-day/
LOCATION:Expocoruña\, A Coruña\, Rúa Juana Capdevielle\, 2\, A Coruña\, 15008\, Spain
CATEGORIES:Festivais
ATTACH;FMTTYPE=image/jpeg:https://concertosdoxacobeo.gal/2021/wp-content/uploads/2022/08/logo-neox-music-day.jpg
GEO:43.340351202971;-8.4101944374349
X-APPLE-STRUCTURED-LOCATION;VALUE=URI;X-ADDRESS=Expocoruña A Coruña Rúa Juana Capdevielle 2 A Coruña 15008 Spain;X-APPLE-RADIUS=500;X-TITLE=Rúa Juana Capdevielle\, 2:geo:-8.4101944374349,43.340351202971
END:VEVENT
BEGIN:VEVENT
DTSTART;TZID=Europe/Madrid:20220730T200000
DTEND;TZID=Europe/Madrid:20220730T213000
DTSTAMP:20260425T133720
CREATED:20220803T164957Z
LAST-MODIFIED:20220817T152119Z
UID:2663-1659211200-1659216600@concertosdoxacobeo.gal
SUMMARY:Rocío Caamaño
DESCRIPTION:[vc_row type=”full_width_background” full_screen_row_position=”middle” column_margin=”default” column_direction=”default” column_direction_tablet=”default” column_direction_phone=”default” scene_position=”center” text_color=”dark” text_align=”left” row_border_radius=”none” row_border_radius_applies=”bg” overflow=”visible” advanced_gradient_angle=”0″ overlay_strength=”0.3″ gradient_direction=”left_to_right” shape_divider_position=”bottom” bg_image_animation=”none” gradient_type=”default” shape_type=””][vc_column column_padding=”no-extra-padding” column_padding_tablet=”inherit” column_padding_phone=”inherit” column_padding_position=”all” column_element_spacing=”default” background_color_opacity=”1″ background_hover_color_opacity=”1″ column_shadow=”none” column_border_radius=”none” column_link_target=”_self” column_position=”default” gradient_direction=”left_to_right” overlay_strength=”0.3″ width=”1/1″ tablet_width_inherit=”default” tablet_text_alignment=”default” phone_text_alignment=”default” animation_type=”default” bg_image_animation=”none” border_type=”simple” column_border_width=”none” column_border_style=”solid”][nectar_global_section id=”2661″][/vc_column][/vc_row]
URL:https://concertosdoxacobeo.gal/2021/evento/rocio-caamano/
LOCATION:Parque Rosalía de Castro\, Friol\, Praza Universidades de Santiago de C.e de Lodz\, 4\, Lugo\, 15800\, Spain
CATEGORIES:Concertos
ATTACH;FMTTYPE=image/jpeg:https://concertosdoxacobeo.gal/2021/wp-content/uploads/2022/08/rocio-caamano.jpg
GEO:42.916613997839;-8.014836744903
X-APPLE-STRUCTURED-LOCATION;VALUE=URI;X-ADDRESS=Parque Rosalía de Castro Friol Praza Universidades de Santiago de C.e de Lodz 4 Lugo 15800 Spain;X-APPLE-RADIUS=500;X-TITLE=Praza Universidades de Santiago de C.e de Lodz\, 4:geo:-8.014836744903,42.916613997839
END:VEVENT
BEGIN:VEVENT
DTSTART;TZID=Europe/Madrid:20220730T203000
DTEND;TZID=Europe/Madrid:20220730T235900
DTSTAMP:20260425T133720
CREATED:20220803T164957Z
LAST-MODIFIED:20220817T223301Z
UID:2416-1659213000-1659225540@concertosdoxacobeo.gal
SUMMARY:Pasión Vega + Nastasia Zürcher
DESCRIPTION:[vc_row type=”full_width_background” full_screen_row_position=”middle” column_margin=”default” column_direction=”default” column_direction_tablet=”default” column_direction_phone=”default” scene_position=”center” text_color=”dark” text_align=”left” row_border_radius=”none” row_border_radius_applies=”bg” overflow=”visible” advanced_gradient_angle=”0″ overlay_strength=”0.3″ gradient_direction=”left_to_right” shape_divider_position=”bottom” bg_image_animation=”none” gradient_type=”default” shape_type=””][vc_column column_padding=”no-extra-padding” column_padding_tablet=”inherit” column_padding_phone=”inherit” column_padding_position=”all” column_element_spacing=”default” background_color_opacity=”1″ background_hover_color_opacity=”1″ column_shadow=”none” column_border_radius=”none” column_link_target=”_self” column_position=”default” gradient_direction=”left_to_right” overlay_strength=”0.3″ width=”1/1″ tablet_width_inherit=”default” tablet_text_alignment=”default” phone_text_alignment=”default” animation_type=”default” bg_image_animation=”none” border_type=”simple” column_border_width=”none” column_border_style=”solid”][nectar_global_section id=”2415″][nectar_global_section id=”2418″][nectar_global_section id=”2357″][/vc_column][/vc_row]
URL:https://concertosdoxacobeo.gal/2021/evento/pasion-vega-nastasia-zurcher/
LOCATION:Faro de Corrubedo\, Ribeira\, AC-303\, 15\, A Coruña\, 15969\, Spain
CATEGORIES:Ciclos
ATTACH;FMTTYPE=image/jpeg:https://concertosdoxacobeo.gal/2021/wp-content/uploads/2022/08/pasion-vega.jpg
GEO:42.576276874563;-9.0900835551561
X-APPLE-STRUCTURED-LOCATION;VALUE=URI;X-ADDRESS=Faro de Corrubedo Ribeira AC-303 15 A Coruña 15969 Spain;X-APPLE-RADIUS=500;X-TITLE=AC-303\, 15:geo:-9.0900835551561,42.576276874563
END:VEVENT
BEGIN:VEVENT
DTSTART;TZID=Europe/Madrid:20220730T223000
DTEND;TZID=Europe/Madrid:20220730T235900
DTSTAMP:20260425T133720
CREATED:20220803T164957Z
LAST-MODIFIED:20220817T204008Z
UID:1485-1659220200-1659225540@concertosdoxacobeo.gal
SUMMARY:Roi Casal
DESCRIPTION:[vc_row type=”full_width_background” full_screen_row_position=”middle” column_margin=”default” column_direction=”default” column_direction_tablet=”default” column_direction_phone=”default” scene_position=”center” text_color=”dark” text_align=”left” row_border_radius=”none” row_border_radius_applies=”bg” overflow=”visible” advanced_gradient_angle=”0″ overlay_strength=”0.3″ gradient_direction=”left_to_right” shape_divider_position=”bottom” bg_image_animation=”none” gradient_type=”default” shape_type=””][vc_column column_padding=”no-extra-padding” column_padding_tablet=”inherit” column_padding_phone=”inherit” column_padding_position=”all” column_element_spacing=”default” background_color_opacity=”1″ background_hover_color_opacity=”1″ column_shadow=”none” column_border_radius=”none” column_link_target=”_self” column_position=”default” gradient_direction=”left_to_right” overlay_strength=”0.3″ width=”1/1″ tablet_width_inherit=”default” tablet_text_alignment=”default” phone_text_alignment=”default” animation_type=”default” bg_image_animation=”none” border_type=”simple” column_border_width=”none” column_border_style=”solid”][nectar_global_section id=”1483″][/vc_column][/vc_row]
URL:https://concertosdoxacobeo.gal/2021/evento/roi-casal-4/
LOCATION:Plaza de Ojea\, Cangas\, Praza de Ojea\, Pontevedra\, 36940\, Spain
CATEGORIES:Concertos
ATTACH;FMTTYPE=image/jpeg:https://concertosdoxacobeo.gal/2021/wp-content/uploads/2022/08/roi-casal.jpg
GEO:42.263411915779;-8.7806112916218
X-APPLE-STRUCTURED-LOCATION;VALUE=URI;X-ADDRESS=Plaza de Ojea Cangas Praza de Ojea Pontevedra 36940 Spain;X-APPLE-RADIUS=500;X-TITLE=Praza de Ojea:geo:-8.7806112916218,42.263411915779
END:VEVENT
BEGIN:VEVENT
DTSTART;TZID=Europe/Madrid:20220730T233000
DTEND;TZID=Europe/Madrid:20220730T235900
DTSTAMP:20260425T133720
CREATED:20220803T164957Z
LAST-MODIFIED:20220818T161150Z
UID:1259-1659223800-1659225540@concertosdoxacobeo.gal
SUMMARY:To-miño Fest
DESCRIPTION:[vc_row type=”full_width_background” full_screen_row_position=”middle” column_margin=”default” column_direction=”default” column_direction_tablet=”default” column_direction_phone=”default” scene_position=”center” text_color=”dark” text_align=”left” row_border_radius=”none” row_border_radius_applies=”bg” overflow=”visible” advanced_gradient_angle=”0″ overlay_strength=”0.3″ gradient_direction=”left_to_right” shape_divider_position=”bottom” bg_image_animation=”none” gradient_type=”default” shape_type=””][vc_column column_padding=”no-extra-padding” column_padding_tablet=”inherit” column_padding_phone=”inherit” column_padding_position=”all” column_element_spacing=”default” background_color_opacity=”1″ background_hover_color_opacity=”1″ column_shadow=”none” column_border_radius=”none” column_link_target=”_self” column_position=”default” gradient_direction=”left_to_right” overlay_strength=”0.3″ width=”1/1″ tablet_width_inherit=”default” tablet_text_alignment=”default” phone_text_alignment=”default” animation_type=”default” bg_image_animation=”none” border_type=”simple” column_border_width=”none” column_border_style=”solid”][nectar_global_section id=”1253″][/vc_column][/vc_row]
URL:https://concertosdoxacobeo.gal/2021/evento/to-mino-fest/
LOCATION:Recinto de Festas do Alivio\, Tomiño\, Recinto de Festas O Alivio\, Pontevedra\, 36740\, Spain
CATEGORIES:Festivais
ATTACH;FMTTYPE=image/jpeg:https://concertosdoxacobeo.gal/2021/wp-content/uploads/2022/08/logo-to-mino.jpg
GEO:41.983522087071;-8.7448166433154
X-APPLE-STRUCTURED-LOCATION;VALUE=URI;X-ADDRESS=Recinto de Festas do Alivio Tomiño Recinto de Festas O Alivio Pontevedra 36740 Spain;X-APPLE-RADIUS=500;X-TITLE=Recinto de Festas O Alivio:geo:-8.7448166433154,41.983522087071
END:VEVENT
END:VCALENDAR