BEGIN:VCALENDAR
VERSION:2.0
PRODID:-//ConcertosDoXacobeo.gal - ECPv5.16.4//NONSGML v1.0//EN
CALSCALE:GREGORIAN
METHOD:PUBLISH
X-ORIGINAL-URL:https://concertosdoxacobeo.gal/2021
X-WR-CALDESC:Events for ConcertosDoXacobeo.gal
REFRESH-INTERVAL;VALUE=DURATION:PT1H
X-Robots-Tag:noindex
X-PUBLISHED-TTL:PT1H
BEGIN:VTIMEZONE
TZID:Europe/Madrid
BEGIN:DAYLIGHT
TZOFFSETFROM:+0100
TZOFFSETTO:+0200
TZNAME:CEST
DTSTART:20220327T010000
END:DAYLIGHT
BEGIN:STANDARD
TZOFFSETFROM:+0200
TZOFFSETTO:+0100
TZNAME:CET
DTSTART:20221030T010000
END:STANDARD
END:VTIMEZONE
BEGIN:VEVENT
DTSTART;VALUE=DATE:20220715
DTEND;VALUE=DATE:20220717
DTSTAMP:20260425T133709
CREATED:20220803T164957Z
LAST-MODIFIED:20220817T202900Z
UID:1045-1657854000-1657940399@concertosdoxacobeo.gal
SUMMARY:Morriña Fest
DESCRIPTION:[vc_row type=”full_width_background” full_screen_row_position=”middle” column_margin=”default” column_direction=”default” column_direction_tablet=”default” column_direction_phone=”default” scene_position=”center” text_color=”dark” text_align=”left” row_border_radius=”none” row_border_radius_applies=”bg” overflow=”visible” advanced_gradient_angle=”0″ overlay_strength=”0.3″ gradient_direction=”left_to_right” shape_divider_position=”bottom” bg_image_animation=”none” gradient_type=”default” shape_type=””][vc_column column_padding=”no-extra-padding” column_padding_tablet=”inherit” column_padding_phone=”inherit” column_padding_position=”all” column_element_spacing=”default” background_color_opacity=”1″ background_hover_color_opacity=”1″ column_shadow=”none” column_border_radius=”none” column_link_target=”_self” column_position=”default” gradient_direction=”left_to_right” overlay_strength=”0.3″ width=”1/1″ tablet_width_inherit=”default” tablet_text_alignment=”default” phone_text_alignment=”default” animation_type=”default” bg_image_animation=”none” border_type=”simple” column_border_width=”none” column_border_style=”solid”][nectar_global_section id=”1043″][/vc_column][/vc_row]
URL:https://concertosdoxacobeo.gal/2021/evento/morrina-fest/2022-07-15/
LOCATION:Estadio de Riazor\, A Coruña\, Rúa Manuel Murguía\, S/N\, A Coruña\, 15011\, Spain
CATEGORIES:Festivais
ATTACH;FMTTYPE=image/jpeg:https://concertosdoxacobeo.gal/2021/wp-content/uploads/2022/08/logo-morrina.jpg
GEO:43.368710600676;-8.4175210509265
X-APPLE-STRUCTURED-LOCATION;VALUE=URI;X-ADDRESS=Estadio de Riazor A Coruña Rúa Manuel Murguía S/N A Coruña 15011 Spain;X-APPLE-RADIUS=500;X-TITLE=Rúa Manuel Murguía\, S/N:geo:-8.4175210509265,43.368710600676
END:VEVENT
BEGIN:VEVENT
DTSTART;VALUE=DATE:20220715
DTEND;VALUE=DATE:20220717
DTSTAMP:20260425T133709
CREATED:20220803T164957Z
LAST-MODIFIED:20220817T202941Z
UID:1060-1657854000-1657940399@concertosdoxacobeo.gal
SUMMARY:Atlantic Fest
DESCRIPTION:[vc_row type=”full_width_background” full_screen_row_position=”middle” column_margin=”default” column_direction=”default” column_direction_tablet=”default” column_direction_phone=”default” scene_position=”center” text_color=”dark” text_align=”left” row_border_radius=”none” row_border_radius_applies=”bg” overflow=”visible” advanced_gradient_angle=”0″ overlay_strength=”0.3″ gradient_direction=”left_to_right” shape_divider_position=”bottom” bg_image_animation=”none” gradient_type=”default” shape_type=””][vc_column column_padding=”no-extra-padding” column_padding_tablet=”inherit” column_padding_phone=”inherit” column_padding_position=”all” column_element_spacing=”default” background_color_opacity=”1″ background_hover_color_opacity=”1″ column_shadow=”none” column_border_radius=”none” column_link_target=”_self” column_position=”default” gradient_direction=”left_to_right” overlay_strength=”0.3″ width=”1/1″ tablet_width_inherit=”default” tablet_text_alignment=”default” phone_text_alignment=”default” animation_type=”default” bg_image_animation=”none” border_type=”simple” column_border_width=”none” column_border_style=”solid”][nectar_global_section id=”1061″][/vc_column][/vc_row]
URL:https://concertosdoxacobeo.gal/2021/evento/atlantic-fest/2022-07-15/
LOCATION:Playa de la Concha\, Vilagarcía de Arousa\, Avenida Rosalía de Castro\, Pontevedra\, 36600\, Spain
CATEGORIES:Festivais
ATTACH;FMTTYPE=image/jpeg:https://concertosdoxacobeo.gal/2021/wp-content/uploads/2022/08/logo-atlantic.jpg
GEO:42.602869499394;-8.7670587218032
X-APPLE-STRUCTURED-LOCATION;VALUE=URI;X-ADDRESS=Playa de la Concha Vilagarcía de Arousa Avenida Rosalía de Castro Pontevedra 36600 Spain;X-APPLE-RADIUS=500;X-TITLE=Avenida Rosalía de Castro:geo:-8.7670587218032,42.602869499394
END:VEVENT
BEGIN:VEVENT
DTSTART;TZID=Europe/Madrid:20220715T193000
DTEND;TZID=Europe/Madrid:20220715T235900
DTSTAMP:20260425T133709
CREATED:20220803T164957Z
LAST-MODIFIED:20220817T202824Z
UID:1027-1657913400-1657929540@concertosdoxacobeo.gal
SUMMARY:Gala Xacobeas en Concerto
DESCRIPTION:[vc_row type=”full_width_background” full_screen_row_position=”middle” column_margin=”default” column_direction=”default” column_direction_tablet=”default” column_direction_phone=”default” scene_position=”center” text_color=”dark” text_align=”left” row_border_radius=”none” row_border_radius_applies=”bg” overflow=”visible” advanced_gradient_angle=”0″ overlay_strength=”0.3″ gradient_direction=”left_to_right” shape_divider_position=”bottom” bg_image_animation=”none” gradient_type=”default” shape_type=””][vc_column column_padding=”no-extra-padding” column_padding_tablet=”inherit” column_padding_phone=”inherit” column_padding_position=”all” column_element_spacing=”default” background_color_opacity=”1″ background_hover_color_opacity=”1″ column_shadow=”none” column_border_radius=”none” column_link_target=”_self” column_position=”default” gradient_direction=”left_to_right” overlay_strength=”0.3″ width=”1/1″ tablet_width_inherit=”default” tablet_text_alignment=”default” phone_text_alignment=”default” animation_type=”default” bg_image_animation=”none” border_type=”simple” column_border_width=”none” column_border_style=”solid”][nectar_global_section id=”1039″][/vc_column][/vc_row]
URL:https://concertosdoxacobeo.gal/2021/evento/gala-xacobeas-en-concerto/
LOCATION:Explanada de la Alameda\, Marín\, Alameda de Marín\, Pontevedra\, 36900\, Spain
CATEGORIES:Festivais
ATTACH;FMTTYPE=image/jpeg:https://concertosdoxacobeo.gal/2021/wp-content/uploads/2022/08/logo-gala-xacobeas-en-concerto.jpg
GEO:42.393132079574;-8.7016934684026
X-APPLE-STRUCTURED-LOCATION;VALUE=URI;X-ADDRESS=Explanada de la Alameda Marín Alameda de Marín Pontevedra 36900 Spain;X-APPLE-RADIUS=500;X-TITLE=Alameda de Marín:geo:-8.7016934684026,42.393132079574
END:VEVENT
BEGIN:VEVENT
DTSTART;TZID=Europe/Madrid:20220715T210000
DTEND;TZID=Europe/Madrid:20220715T230000
DTSTAMP:20260425T133709
CREATED:20220803T164957Z
LAST-MODIFIED:20220817T221654Z
UID:2269-1657918800-1657926000@concertosdoxacobeo.gal
SUMMARY:La Banda
DESCRIPTION:[vc_row type=”full_width_background” full_screen_row_position=”middle” column_margin=”default” column_direction=”default” column_direction_tablet=”default” column_direction_phone=”default” scene_position=”center” text_color=”dark” text_align=”left” row_border_radius=”none” row_border_radius_applies=”bg” overflow=”visible” advanced_gradient_angle=”0″ overlay_strength=”0.3″ gradient_direction=”left_to_right” shape_divider_position=”bottom” bg_image_animation=”none” gradient_type=”default” shape_type=””][vc_column column_padding=”no-extra-padding” column_padding_tablet=”inherit” column_padding_phone=”inherit” column_padding_position=”all” column_element_spacing=”default” background_color_opacity=”1″ background_hover_color_opacity=”1″ column_shadow=”none” column_border_radius=”none” column_link_target=”_self” column_position=”default” gradient_direction=”left_to_right” overlay_strength=”0.3″ width=”1/1″ tablet_width_inherit=”default” tablet_text_alignment=”default” phone_text_alignment=”default” animation_type=”default” bg_image_animation=”none” border_type=”simple” column_border_width=”none” column_border_style=”solid”][nectar_global_section id=”2267″][nectar_global_section id=”2242″][/vc_column][/vc_row]
URL:https://concertosdoxacobeo.gal/2021/evento/la-banda-2/
LOCATION:Antigua Estación de Ferrocarril\, A Gudiña\, Ourense\, 32540\, Spain
CATEGORIES:Ciclos
ATTACH;FMTTYPE=image/jpeg:https://concertosdoxacobeo.gal/2021/wp-content/uploads/2022/08/la-banda.jpg
GEO:42.060497362384;-7.1325983942702
END:VEVENT
BEGIN:VEVENT
DTSTART;TZID=Europe/Madrid:20220715T223000
DTEND;TZID=Europe/Madrid:20220715T235900
DTSTAMP:20260425T133709
CREATED:20220803T164957Z
LAST-MODIFIED:20220817T202738Z
UID:668-1657924200-1657929540@concertosdoxacobeo.gal
SUMMARY:Los Secretos
DESCRIPTION:[vc_row type=”full_width_background” full_screen_row_position=”middle” column_margin=”default” column_direction=”default” column_direction_tablet=”default” column_direction_phone=”default” scene_position=”center” text_color=”dark” text_align=”left” row_border_radius=”none” row_border_radius_applies=”bg” overflow=”visible” advanced_gradient_angle=”0″ overlay_strength=”0.3″ gradient_direction=”left_to_right” shape_divider_position=”bottom” bg_image_animation=”none” gradient_type=”default” shape_type=””][vc_column column_padding=”no-extra-padding” column_padding_tablet=”inherit” column_padding_phone=”inherit” column_padding_position=”all” column_element_spacing=”default” background_color_opacity=”1″ background_hover_color_opacity=”1″ column_shadow=”none” column_border_radius=”none” column_link_target=”_self” column_position=”default” gradient_direction=”left_to_right” overlay_strength=”0.3″ width=”1/1″ tablet_width_inherit=”default” tablet_text_alignment=”default” phone_text_alignment=”default” animation_type=”default” bg_image_animation=”none” border_type=”simple” column_border_width=”none” column_border_style=”solid”][nectar_global_section id=”672″][/vc_column][/vc_row]
URL:https://concertosdoxacobeo.gal/2021/evento/los-secretos/
LOCATION:Explanada de la Compañía\, Monforte de Lemos\, Plaza Compañía\, Lugo\, 27400\, Spain
CATEGORIES:Concertos
ATTACH;FMTTYPE=image/jpeg:https://concertosdoxacobeo.gal/2021/wp-content/uploads/2022/08/los-secretos.jpg
GEO:42.517799622866;-7.5171237736658
X-APPLE-STRUCTURED-LOCATION;VALUE=URI;X-ADDRESS=Explanada de la Compañía Monforte de Lemos Plaza Compañía Lugo 27400 Spain;X-APPLE-RADIUS=500;X-TITLE=Plaza Compañía:geo:-7.5171237736658,42.517799622866
END:VEVENT
END:VCALENDAR