BEGIN:VCALENDAR
VERSION:2.0
PRODID:-//ConcertosDoXacobeo.gal - ECPv5.16.4//NONSGML v1.0//EN
CALSCALE:GREGORIAN
METHOD:PUBLISH
X-ORIGINAL-URL:https://concertosdoxacobeo.gal/2021
X-WR-CALDESC:Events for ConcertosDoXacobeo.gal
REFRESH-INTERVAL;VALUE=DURATION:PT1H
X-Robots-Tag:noindex
X-PUBLISHED-TTL:PT1H
BEGIN:VTIMEZONE
TZID:Europe/Madrid
BEGIN:DAYLIGHT
TZOFFSETFROM:+0100
TZOFFSETTO:+0200
TZNAME:CEST
DTSTART:20220327T010000
END:DAYLIGHT
BEGIN:STANDARD
TZOFFSETFROM:+0200
TZOFFSETTO:+0100
TZNAME:CET
DTSTART:20221030T010000
END:STANDARD
END:VTIMEZONE
BEGIN:VEVENT
DTSTART;TZID=Europe/Madrid:20220707T203000
DTEND;TZID=Europe/Madrid:20220707T223000
DTSTAMP:20260425T133611
CREATED:20220803T164957Z
LAST-MODIFIED:20220817T214921Z
UID:2081-1657225800-1657233000@concertosdoxacobeo.gal
SUMMARY:Agnes Obel
DESCRIPTION:[vc_row type=”full_width_background” full_screen_row_position=”middle” column_margin=”default” column_direction=”default” column_direction_tablet=”default” column_direction_phone=”default” scene_position=”center” text_color=”dark” text_align=”left” row_border_radius=”none” row_border_radius_applies=”bg” overflow=”visible” advanced_gradient_angle=”0″ overlay_strength=”0.3″ gradient_direction=”left_to_right” shape_divider_position=”bottom” bg_image_animation=”none” gradient_type=”default” shape_type=””][vc_column column_padding=”no-extra-padding” column_padding_tablet=”inherit” column_padding_phone=”inherit” column_padding_position=”all” column_element_spacing=”default” background_color_opacity=”1″ background_hover_color_opacity=”1″ column_shadow=”none” column_border_radius=”none” column_link_target=”_self” column_position=”default” gradient_direction=”left_to_right” overlay_strength=”0.3″ width=”1/1″ tablet_width_inherit=”default” tablet_text_alignment=”default” phone_text_alignment=”default” animation_type=”default” bg_image_animation=”none” border_type=”simple” column_border_width=”none” column_border_style=”solid”][nectar_global_section id=”2080″][nectar_global_section id=”2019″][/vc_column][/vc_row]
URL:https://concertosdoxacobeo.gal/2021/evento/agnes-obel/
LOCATION:Auditorio Afundación\, Vigo\, Rúa do Marqués de Valladares\, 10A\, Pontevedra\, 36201\, Spain
CATEGORIES:Ciclos
ATTACH;FMTTYPE=image/jpeg:https://concertosdoxacobeo.gal/2021/wp-content/uploads/2022/08/agnes-obel.jpg
GEO:42.238204128289;-8.7234628372502
X-APPLE-STRUCTURED-LOCATION;VALUE=URI;X-ADDRESS=Auditorio Afundación Vigo Rúa do Marqués de Valladares 10A Pontevedra 36201 Spain;X-APPLE-RADIUS=500;X-TITLE=Rúa do Marqués de Valladares\, 10A:geo:-8.7234628372502,42.238204128289
END:VEVENT
BEGIN:VEVENT
DTSTART;TZID=Europe/Madrid:20220707T213000
DTEND;TZID=Europe/Madrid:20220707T233000
DTSTAMP:20260425T133611
CREATED:20220803T164957Z
LAST-MODIFIED:20220817T202225Z
UID:650-1657229400-1657236600@concertosdoxacobeo.gal
SUMMARY:Víctor Manuel
DESCRIPTION:[vc_row type=”full_width_background” full_screen_row_position=”middle” column_margin=”default” column_direction=”default” column_direction_tablet=”default” column_direction_phone=”default” scene_position=”center” text_color=”dark” text_align=”left” row_border_radius=”none” row_border_radius_applies=”bg” overflow=”visible” advanced_gradient_angle=”0″ overlay_strength=”0.3″ gradient_direction=”left_to_right” shape_divider_position=”bottom” bg_image_animation=”none” gradient_type=”default” shape_type=””][vc_column column_padding=”no-extra-padding” column_padding_tablet=”inherit” column_padding_phone=”inherit” column_padding_position=”all” column_element_spacing=”default” background_color_opacity=”1″ background_hover_color_opacity=”1″ column_shadow=”none” column_border_radius=”none” column_link_target=”_self” column_position=”default” gradient_direction=”left_to_right” overlay_strength=”0.3″ width=”1/1″ tablet_width_inherit=”default” tablet_text_alignment=”default” phone_text_alignment=”default” animation_type=”default” bg_image_animation=”none” border_type=”simple” column_border_width=”none” column_border_style=”solid”][nectar_global_section id=”648″][/vc_column][/vc_row]
URL:https://concertosdoxacobeo.gal/2021/evento/victor-manuel/
LOCATION:Explanada del Parque Naútico\, Castrelo de Miño\, Rúa do Concello\, s/n\, Ourense\, 32430\, Spain
CATEGORIES:Concertos
ATTACH;FMTTYPE=image/jpeg:https://concertosdoxacobeo.gal/2021/wp-content/uploads/2022/08/victor-manuel.jpg
GEO:42.293172417647;-8.100152523133
X-APPLE-STRUCTURED-LOCATION;VALUE=URI;X-ADDRESS=Explanada del Parque Naútico Castrelo de Miño Rúa do Concello s/n Ourense 32430 Spain;X-APPLE-RADIUS=500;X-TITLE=Rúa do Concello\, s/n:geo:-8.100152523133,42.293172417647
END:VEVENT
END:VCALENDAR