BEGIN:VCALENDAR
VERSION:2.0
PRODID:-//ConcertosDoXacobeo.gal - ECPv5.16.4//NONSGML v1.0//EN
CALSCALE:GREGORIAN
METHOD:PUBLISH
X-WR-CALNAME:ConcertosDoXacobeo.gal
X-ORIGINAL-URL:https://concertosdoxacobeo.gal/2021/es/
X-WR-CALDESC:Eventos para ConcertosDoXacobeo.gal
REFRESH-INTERVAL;VALUE=DURATION:PT1H
X-Robots-Tag:noindex
X-PUBLISHED-TTL:PT1H
BEGIN:VTIMEZONE
TZID:Europe/Madrid
BEGIN:DAYLIGHT
TZOFFSETFROM:+0100
TZOFFSETTO:+0200
TZNAME:CEST
DTSTART:20220327T010000
END:DAYLIGHT
BEGIN:STANDARD
TZOFFSETFROM:+0200
TZOFFSETTO:+0100
TZNAME:CET
DTSTART:20221030T010000
END:STANDARD
END:VTIMEZONE
BEGIN:VEVENT
DTSTART;TZID=Europe/Madrid:20220910T220000
DTEND;TZID=Europe/Madrid:20220910T233000
DTSTAMP:20260420T120843
CREATED:20220908T180148Z
LAST-MODIFIED:20220908T180321Z
UID:4787-1662847200-1662852600@concertosdoxacobeo.gal
SUMMARY:Xoel López
DESCRIPTION:[vc_row type=»full_width_background» full_screen_row_position=»middle» column_margin=»default» column_direction=»default» column_direction_tablet=»default» column_direction_phone=»default» scene_position=»center» text_color=»dark» text_align=»left» row_border_radius=»none» row_border_radius_applies=»bg» overflow=»visible» advanced_gradient_angle=»0″ overlay_strength=»0.3″ gradient_direction=»left_to_right» shape_divider_position=»bottom» bg_image_animation=»none» gradient_type=»default» shape_type=»»][vc_column column_padding=»no-extra-padding» column_padding_tablet=»inherit» column_padding_phone=»inherit» column_padding_position=»all» column_element_spacing=»default» background_color_opacity=»1″ background_hover_color_opacity=»1″ column_shadow=»none» column_border_radius=»none» column_link_target=»_self» column_position=»default» gradient_direction=»left_to_right» overlay_strength=»0.3″ width=»1/1″ tablet_width_inherit=»default» tablet_text_alignment=»default» phone_text_alignment=»default» animation_type=»default» bg_image_animation=»none» border_type=»simple» column_border_width=»none» column_border_style=»solid»][nectar_global_section id=»4778″][/vc_column][/vc_row]
URL:https://concertosdoxacobeo.gal/2021/es/evento/xoel-lopez-2/
LOCATION:Porto de Fisterra\, Fisterra\, Paseo Ribeira\, 22\, A Coruña\, Spain
CATEGORIES:Conciertos
ATTACH;FMTTYPE=image/jpeg:https://concertosdoxacobeo.gal/2021/wp-content/uploads/2022/08/xoel-lopez.jpg
GEO:42.906835715511;-9.2624287739909
X-APPLE-STRUCTURED-LOCATION;VALUE=URI;X-ADDRESS=Porto de Fisterra Fisterra Paseo Ribeira 22 A Coruña Spain;X-APPLE-RADIUS=500;X-TITLE=Paseo Ribeira\, 22:geo:-9.2624287739909,42.906835715511
END:VEVENT
BEGIN:VEVENT
DTSTART;TZID=Europe/Madrid:20220808T220000
DTEND;TZID=Europe/Madrid:20220808T235900
DTSTAMP:20260420T120843
CREATED:20220803T164957Z
LAST-MODIFIED:20220817T185046Z
UID:3861-1659996000-1660003140@concertosdoxacobeo.gal
SUMMARY:Xoel López
DESCRIPTION:[vc_row type=»full_width_background» full_screen_row_position=»middle» column_margin=»default» column_direction=»default» column_direction_tablet=»default» column_direction_phone=»default» scene_position=»center» text_color=»dark» text_align=»left» row_border_radius=»none» row_border_radius_applies=»bg» overflow=»visible» advanced_gradient_angle=»0″ overlay_strength=»0.3″ gradient_direction=»left_to_right» shape_divider_position=»bottom» bg_image_animation=»none» gradient_type=»default» shape_type=»»][vc_column column_padding=»no-extra-padding» column_padding_tablet=»inherit» column_padding_phone=»inherit» column_padding_position=»all» column_element_spacing=»default» background_color_opacity=»1″ background_hover_color_opacity=»1″ column_shadow=»none» column_border_radius=»none» column_link_target=»_self» column_position=»default» gradient_direction=»left_to_right» overlay_strength=»0.3″ width=»1/1″ tablet_width_inherit=»default» tablet_text_alignment=»default» phone_text_alignment=»default» animation_type=»default» bg_image_animation=»none» border_type=»simple» column_border_width=»none» column_border_style=»solid»][nectar_global_section id=»1497″][/vc_column][/vc_row]
URL:https://concertosdoxacobeo.gal/2021/es/evento/xoel-lopez/
LOCATION:Recinto Feiral\, Tui\, Carrer Alcalde Casal Aboy\, Pontevedra\, 36700\, Spain
CATEGORIES:Conciertos
ATTACH;FMTTYPE=image/jpeg:https://concertosdoxacobeo.gal/2021/wp-content/uploads/2022/08/xoel-lopez.jpg
GEO:42.053520783233;-8.6438756874801
X-APPLE-STRUCTURED-LOCATION;VALUE=URI;X-ADDRESS=Recinto Feiral Tui Carrer Alcalde Casal Aboy Pontevedra 36700 Spain;X-APPLE-RADIUS=500;X-TITLE=Carrer Alcalde Casal Aboy:geo:-8.6438756874801,42.053520783233
END:VEVENT
BEGIN:VEVENT
DTSTART;VALUE=DATE:20220716
DTEND;VALUE=DATE:20220718
DTSTAMP:20260420T120844
CREATED:20220803T164957Z
LAST-MODIFIED:20220803T164957Z
UID:3799-1657940400-1658026799@concertosdoxacobeo.gal
SUMMARY:Morriña Fest
DESCRIPTION:[vc_row type=»full_width_background» full_screen_row_position=»middle» column_margin=»default» column_direction=»default» column_direction_tablet=»default» column_direction_phone=»default» scene_position=»center» text_color=»dark» text_align=»left» row_border_radius=»none» row_border_radius_applies=»bg» overflow=»visible» advanced_gradient_angle=»0″ overlay_strength=»0.3″ gradient_direction=»left_to_right» shape_divider_position=»bottom» bg_image_animation=»none» gradient_type=»default» shape_type=»»][vc_column column_padding=»no-extra-padding» column_padding_tablet=»inherit» column_padding_phone=»inherit» column_padding_position=»all» column_element_spacing=»default» background_color_opacity=»1″ background_hover_color_opacity=»1″ column_shadow=»none» column_border_radius=»none» column_link_target=»_self» column_position=»default» gradient_direction=»left_to_right» overlay_strength=»0.3″ width=»1/1″ tablet_width_inherit=»default» tablet_text_alignment=»default» phone_text_alignment=»default» animation_type=»default» bg_image_animation=»none» border_type=»simple» column_border_width=»none» column_border_style=»solid»][nectar_global_section id=»1043″][/vc_column][/vc_row]
URL:https://concertosdoxacobeo.gal/2021/es/evento/morrina-fest/2022-07-16/
LOCATION:Estadio de Riazor\, A Coruña\, Rúa Manuel Murguía\, S/N\, A Coruña\, 15011\, Spain
CATEGORIES:Festivales
ATTACH;FMTTYPE=image/jpeg:https://concertosdoxacobeo.gal/2021/wp-content/uploads/2022/08/logo-morrina.jpg
GEO:43.368710600676;-8.4175210509265
X-APPLE-STRUCTURED-LOCATION;VALUE=URI;X-ADDRESS=Estadio de Riazor A Coruña Rúa Manuel Murguía S/N A Coruña 15011 Spain;X-APPLE-RADIUS=500;X-TITLE=Rúa Manuel Murguía\, S/N:geo:-8.4175210509265,43.368710600676
END:VEVENT
BEGIN:VEVENT
DTSTART;TZID=Europe/Madrid:20220703T210000
DTEND;TZID=Europe/Madrid:20220703T230000
DTSTAMP:20260420T120844
CREATED:20220803T164957Z
LAST-MODIFIED:20220817T183019Z
UID:3716-1656882000-1656889200@concertosdoxacobeo.gal
SUMMARY:Xoel López + Pablo Lesuit
DESCRIPTION:[vc_row type=»full_width_background» full_screen_row_position=»middle» column_margin=»default» column_direction=»default» column_direction_tablet=»default» column_direction_phone=»default» scene_position=»center» text_color=»dark» text_align=»left» row_border_radius=»none» row_border_radius_applies=»bg» overflow=»visible» advanced_gradient_angle=»0″ overlay_strength=»0.3″ gradient_direction=»left_to_right» shape_divider_position=»bottom» bg_image_animation=»none» gradient_type=»default» shape_type=»»][vc_column column_padding=»no-extra-padding» column_padding_tablet=»inherit» column_padding_phone=»inherit» column_padding_position=»all» column_element_spacing=»default» background_color_opacity=»1″ background_hover_color_opacity=»1″ column_shadow=»none» column_border_radius=»none» column_link_target=»_self» column_position=»default» gradient_direction=»left_to_right» overlay_strength=»0.3″ width=»1/1″ tablet_width_inherit=»default» tablet_text_alignment=»default» phone_text_alignment=»default» animation_type=»default» bg_image_animation=»none» border_type=»simple» column_border_width=»none» column_border_style=»solid»][nectar_global_section id=»643″][/vc_column][/vc_row]
URL:https://concertosdoxacobeo.gal/2021/es/evento/xoel-lopez-pablo-lesuit/
LOCATION:Parque de A Preguiza\, Verín\, Camiño da Preguiza\, Ourense\, 32600\, Spain
CATEGORIES:Conciertos
ATTACH;FMTTYPE=image/jpeg:https://concertosdoxacobeo.gal/2021/wp-content/uploads/2022/08/xoel-lopez.jpg
GEO:41.945139853867;-7.4408094463106
X-APPLE-STRUCTURED-LOCATION;VALUE=URI;X-ADDRESS=Parque de A Preguiza Verín Camiño da Preguiza Ourense 32600 Spain;X-APPLE-RADIUS=500;X-TITLE=Camiño da Preguiza:geo:-7.4408094463106,41.945139853867
END:VEVENT
BEGIN:VEVENT
DTSTART;VALUE=DATE:20220529
DTEND;VALUE=DATE:20220531
DTSTAMP:20260420T120844
CREATED:20220803T164957Z
LAST-MODIFIED:20220803T164957Z
UID:3693-1653793200-1653879599@concertosdoxacobeo.gal
SUMMARY:Ouren Sound Fest
DESCRIPTION:[vc_row type=»full_width_background» full_screen_row_position=»middle» column_margin=»default» column_direction=»default» column_direction_tablet=»default» column_direction_phone=»default» scene_position=»center» text_color=»dark» text_align=»left» row_border_radius=»none» row_border_radius_applies=»bg» overflow=»visible» advanced_gradient_angle=»0″ overlay_strength=»0.3″ gradient_direction=»left_to_right» shape_divider_position=»bottom» bg_image_animation=»none» gradient_type=»default» shape_type=»»][vc_column column_padding=»no-extra-padding» column_padding_tablet=»inherit» column_padding_phone=»inherit» column_padding_position=»all» column_element_spacing=»default» background_color_opacity=»1″ background_hover_color_opacity=»1″ column_shadow=»none» column_border_radius=»none» column_link_target=»_self» column_position=»default» gradient_direction=»left_to_right» overlay_strength=»0.3″ width=»1/1″ tablet_width_inherit=»default» tablet_text_alignment=»default» phone_text_alignment=»default» animation_type=»default» bg_image_animation=»none» border_type=»simple» column_border_width=»none» column_border_style=»solid»][nectar_global_section id=»1091″][/vc_column][/vc_row]
URL:https://concertosdoxacobeo.gal/2021/es/evento/ouren-sound-fest/2022-05-29/
LOCATION:Barrio Bemposta\, Ourense\, Barrio Bemposta\, 1\, Ourense\, 32970\, Spain
CATEGORIES:Festivales
ATTACH;FMTTYPE=image/jpeg:https://concertosdoxacobeo.gal/2021/wp-content/uploads/2022/08/logo-ouren-sound.jpg
GEO:42.302003042758;-7.847477979419
X-APPLE-STRUCTURED-LOCATION;VALUE=URI;X-ADDRESS=Barrio Bemposta Ourense Barrio Bemposta 1 Ourense 32970 Spain;X-APPLE-RADIUS=500;X-TITLE=Barrio Bemposta\, 1:geo:-7.847477979419,42.302003042758
END:VEVENT
END:VCALENDAR