BEGIN:VCALENDAR
VERSION:2.0
PRODID:-//ConcertosDoXacobeo.gal - ECPv5.16.4//NONSGML v1.0//EN
CALSCALE:GREGORIAN
METHOD:PUBLISH
X-ORIGINAL-URL:https://concertosdoxacobeo.gal/2021/es/
X-WR-CALDESC:Eventos para ConcertosDoXacobeo.gal
REFRESH-INTERVAL;VALUE=DURATION:PT1H
X-Robots-Tag:noindex
X-PUBLISHED-TTL:PT1H
BEGIN:VTIMEZONE
TZID:Europe/Madrid
BEGIN:DAYLIGHT
TZOFFSETFROM:+0100
TZOFFSETTO:+0200
TZNAME:CEST
DTSTART:20220327T010000
END:DAYLIGHT
BEGIN:STANDARD
TZOFFSETFROM:+0200
TZOFFSETTO:+0100
TZNAME:CET
DTSTART:20221030T010000
END:STANDARD
END:VTIMEZONE
BEGIN:VEVENT
DTSTART;TZID=Europe/Madrid:20220708T220000
DTEND;TZID=Europe/Madrid:20220708T235900
DTSTAMP:20260421T142206
CREATED:20220803T164957Z
LAST-MODIFIED:20220817T183102Z
UID:3721-1657317600-1657324740@concertosdoxacobeo.gal
SUMMARY:Seguridad Social
DESCRIPTION:[vc_row type=»full_width_background» full_screen_row_position=»middle» column_margin=»default» column_direction=»default» column_direction_tablet=»default» column_direction_phone=»default» scene_position=»center» text_color=»dark» text_align=»left» row_border_radius=»none» row_border_radius_applies=»bg» overflow=»visible» advanced_gradient_angle=»0″ overlay_strength=»0.3″ gradient_direction=»left_to_right» shape_divider_position=»bottom» bg_image_animation=»none» gradient_type=»default» shape_type=»»][vc_column column_padding=»no-extra-padding» column_padding_tablet=»inherit» column_padding_phone=»inherit» column_padding_position=»all» column_element_spacing=»default» background_color_opacity=»1″ background_hover_color_opacity=»1″ column_shadow=»none» column_border_radius=»none» column_link_target=»_self» column_position=»default» gradient_direction=»left_to_right» overlay_strength=»0.3″ width=»1/1″ tablet_width_inherit=»default» tablet_text_alignment=»default» phone_text_alignment=»default» animation_type=»default» bg_image_animation=»none» border_type=»simple» column_border_width=»none» column_border_style=»solid»][nectar_global_section id=»2208″][nectar_global_section id=»2206″][/vc_column][/vc_row]
URL:https://concertosdoxacobeo.gal/2021/es/evento/seguridad-social/
LOCATION:Parking Caravanas Milladoiro\, Ames\, Rúa Buxo\, A Coruña\, 15895\, Spain
CATEGORIES:Ciclos
ATTACH;FMTTYPE=image/jpeg:https://concertosdoxacobeo.gal/2021/wp-content/uploads/2022/08/seguridad-social.jpg
GEO:42.84723956882;-8.5817267865071
X-APPLE-STRUCTURED-LOCATION;VALUE=URI;X-ADDRESS=Parking Caravanas Milladoiro Ames Rúa Buxo A Coruña 15895 Spain;X-APPLE-RADIUS=500;X-TITLE=Rúa Buxo:geo:-8.5817267865071,42.84723956882
END:VEVENT
END:VCALENDAR